BEGIN:VCALENDAR
VERSION:2.0
PRODID:-//Eglise Protestante Unie de la Bastille - ECPv6.15.20//NONSGML v1.0//EN
CALSCALE:GREGORIAN
METHOD:PUBLISH
X-ORIGINAL-URL:https://www.foyerdelame.fr
X-WR-CALDESC:Évènements pour Eglise Protestante Unie de la Bastille
REFRESH-INTERVAL;VALUE=DURATION:PT1H
X-Robots-Tag:noindex
X-PUBLISHED-TTL:PT1H
BEGIN:VTIMEZONE
TZID:Europe/Paris
BEGIN:DAYLIGHT
TZOFFSETFROM:+0100
TZOFFSETTO:+0200
TZNAME:CEST
DTSTART:20240331T010000
END:DAYLIGHT
BEGIN:STANDARD
TZOFFSETFROM:+0200
TZOFFSETTO:+0100
TZNAME:CET
DTSTART:20241027T010000
END:STANDARD
BEGIN:DAYLIGHT
TZOFFSETFROM:+0100
TZOFFSETTO:+0200
TZNAME:CEST
DTSTART:20250330T010000
END:DAYLIGHT
BEGIN:STANDARD
TZOFFSETFROM:+0200
TZOFFSETTO:+0100
TZNAME:CET
DTSTART:20251026T010000
END:STANDARD
BEGIN:DAYLIGHT
TZOFFSETFROM:+0100
TZOFFSETTO:+0200
TZNAME:CEST
DTSTART:20260329T010000
END:DAYLIGHT
BEGIN:STANDARD
TZOFFSETFROM:+0200
TZOFFSETTO:+0100
TZNAME:CET
DTSTART:20261025T010000
END:STANDARD
END:VTIMEZONE
BEGIN:VEVENT
DTSTART;TZID=Europe/Paris:20251202T123000
DTEND;TZID=Europe/Paris:20251202T123000
DTSTAMP:20260423T214457
CREATED:20250807T111349Z
LAST-MODIFIED:20250809T084401Z
UID:44555-1764678600-1764678600@www.foyerdelame.fr
SUMMARY:Pause biblique
DESCRIPTION:Ces rencontres mensuelles très conviviales\nont lieu un mardi par mois\,\ndans la salle du rez-de-chaussée. \nDiscussion sur un thème d’intérêt biblique
URL:https://www.foyerdelame.fr/event/pause-biblique-3/
CATEGORIES:Partage
END:VEVENT
BEGIN:VEVENT
DTSTART;TZID=Europe/Paris:20251204T123000
DTEND;TZID=Europe/Paris:20251204T133000
DTSTAMP:20260423T214457
CREATED:20250815T101353Z
LAST-MODIFIED:20250815T101403Z
UID:44932-1764851400-1764855000@www.foyerdelame.fr
SUMMARY:Pause spirituelle
DESCRIPTION:Temps de pause\,\noù l’on se pose et se dépose. \nSilence\, texte biblique\, prière et musique. \nUn moment ouvert à tous dans le temple.
URL:https://www.foyerdelame.fr/event/pause-spirituelle-8/
CATEGORIES:Groupes thématiques
END:VEVENT
BEGIN:VEVENT
DTSTART;TZID=Europe/Paris:20251204T190000
DTEND;TZID=Europe/Paris:20251204T190000
DTSTAMP:20260423T214457
CREATED:20250819T101745Z
LAST-MODIFIED:20250819T101754Z
UID:45094-1764874800-1764874800@www.foyerdelame.fr
SUMMARY:Ciné-club
DESCRIPTION:Les séances sont ouvertes à tous\,\ndans la salle du 2ème étage\, un jeudi par mois.\nNous commençons par un en-cas partagé à partir de 19h.\nLa projection débute à 19h45. \nL’idée est de trouver et partager des films\,\nattractifs évidemment\,\nnourrissant la réflexion nécessairement\,\npas forcément à sujet religieux\,\net qui ne sont guère visibles en vidéo\nou sur les chaînes spécialisées.\nEt de partager un débat après le film. \nLe chef opérateur est Didier You.
URL:https://www.foyerdelame.fr/event/cine-club-23/
CATEGORIES:Partage
END:VEVENT
BEGIN:VEVENT
DTSTART;TZID=Europe/Paris:20251206T103000
DTEND;TZID=Europe/Paris:20251206T103000
DTSTAMP:20260423T214457
CREATED:20250810T133715Z
LAST-MODIFIED:20250810T133724Z
UID:44717-1765017000-1765017000@www.foyerdelame.fr
SUMMARY:Évangile et liberté
DESCRIPTION:avec Laurent Gagnebin \n\n\nUn groupe de paroissiens se penche\nun samedi par mois dans la salle du 2ème étage\nsur un numéro d’Evangile et Liberté\,\nle magazine qui invite à penser et croire en toute liberté.
URL:https://www.foyerdelame.fr/event/evangile-et-liberte-12/
CATEGORIES:Groupes thématiques
END:VEVENT
BEGIN:VEVENT
DTSTART;TZID=Europe/Paris:20251210T193000
DTEND;TZID=Europe/Paris:20251210T193000
DTSTAMP:20260423T214457
CREATED:20250808T084313Z
LAST-MODIFIED:20250809T084349Z
UID:44600-1765395000-1765395000@www.foyerdelame.fr
SUMMARY:Groupe biblique
DESCRIPTION:Le groupe biblique se réunit\nun mercredi par mois dans la salle du 2ème étage. \nL’étude biblique est un travail de réflexion en groupe \nsur les textes bibliques pour mesurer la portée du texte\,\nce qu’il veut dire aujourd’hui.
URL:https://www.foyerdelame.fr/event/groupe-biblique-3/
CATEGORIES:Etudes Bibliques
END:VEVENT
BEGIN:VEVENT
DTSTART;TZID=Europe/Paris:20251211T123000
DTEND;TZID=Europe/Paris:20251211T133000
DTSTAMP:20260423T214457
CREATED:20250815T101514Z
LAST-MODIFIED:20250815T101524Z
UID:44935-1765456200-1765459800@www.foyerdelame.fr
SUMMARY:Pause spirituelle
DESCRIPTION:Temps de pause\,\noù l’on se pose et se dépose. \nSilence\, texte biblique\, prière et musique. \nUn moment ouvert à tous dans le temple.
URL:https://www.foyerdelame.fr/event/pause-spirituelle-9/
CATEGORIES:Groupes thématiques
END:VEVENT
BEGIN:VEVENT
DTSTART;TZID=Europe/Paris:20251212T193000
DTEND;TZID=Europe/Paris:20251212T193000
DTSTAMP:20260423T214457
CREATED:20250809T085357Z
LAST-MODIFIED:20250809T085541Z
UID:44661-1765567800-1765567800@www.foyerdelame.fr
SUMMARY:Théo et Psycho
DESCRIPTION:Le groupe réunit croyants et incroyants\ndans une atmosphère conviviale. \nNous lisons ces textes\,\nnous parlons aussi de nous\, de nos propres histoires. \nLe groupe se réunit un vendredi par mois\,\ndans la salle du 2ème étage.
URL:https://www.foyerdelame.fr/event/theo-et-psycho-12/
CATEGORIES:Groupes thématiques
END:VEVENT
BEGIN:VEVENT
DTSTART;TZID=Europe/Paris:20251213T110000
DTEND;TZID=Europe/Paris:20251213T123000
DTSTAMP:20260423T214457
CREATED:20250812T121738Z
LAST-MODIFIED:20250812T121738Z
UID:44764-1765623600-1765629000@www.foyerdelame.fr
SUMMARY:Ciel et Terre
DESCRIPTION:Le groupe Ciel et Terre se propose\nd’envisager des questions \nde théologie ou de philosophie \ndans leur rapport à l’expérience concrète\, \npersonnelle ou collective. \nDans ce but\, les séances bimestrielles \nprendront pour point de départ\ndes thèmes\, ou des textes\,\nbrièvement présentés par un ou par une des participants\net faisant ensuite l’objet d’une approche commune.
URL:https://www.foyerdelame.fr/event/ciel-et-terre-11/
CATEGORIES:Groupes thématiques
END:VEVENT
BEGIN:VEVENT
DTSTART;TZID=Europe/Paris:20251214T120000
DTEND;TZID=Europe/Paris:20251214T120000
DTSTAMP:20260423T214457
CREATED:20250816T130843Z
LAST-MODIFIED:20250816T130855Z
UID:45027-1765713600-1765713600@www.foyerdelame.fr
SUMMARY:Déjeuner JMJ
DESCRIPTION:Le groupe des Jeunes et Moins Jeunes\nse réunit une dimanche par mois\, après le culte\,\ndans la salle du 2ème étage. \nRepas partagé\, tiré des sacs et ouvert à tous. \nNous y abordons des thèmes divers\,\nliturgiques ou tirés d’ouvrages.
URL:https://www.foyerdelame.fr/event/dejeuner-jmj-3/
CATEGORIES:Partage
END:VEVENT
BEGIN:VEVENT
DTSTART;TZID=Europe/Paris:20251218T123000
DTEND;TZID=Europe/Paris:20251218T133000
DTSTAMP:20260423T214457
CREATED:20250815T101653Z
LAST-MODIFIED:20250815T101701Z
UID:44938-1766061000-1766064600@www.foyerdelame.fr
SUMMARY:Pause spirituelle
DESCRIPTION:Temps de pause\,\noù l’on se pose et se dépose. \nSilence\, texte biblique\, prière et musique. \nUn moment ouvert à tous dans le temple.
URL:https://www.foyerdelame.fr/event/pause-spirituelle-14/
CATEGORIES:Groupes thématiques
END:VEVENT
END:VCALENDAR