BEGIN:VCALENDAR
VERSION:2.0
PRODID:-//Eglise Protestante Unie de la Bastille - ECPv6.15.20//NONSGML v1.0//EN
CALSCALE:GREGORIAN
METHOD:PUBLISH
X-ORIGINAL-URL:https://www.foyerdelame.fr
X-WR-CALDESC:Évènements pour Eglise Protestante Unie de la Bastille
REFRESH-INTERVAL;VALUE=DURATION:PT1H
X-Robots-Tag:noindex
X-PUBLISHED-TTL:PT1H
BEGIN:VTIMEZONE
TZID:Europe/Paris
BEGIN:DAYLIGHT
TZOFFSETFROM:+0100
TZOFFSETTO:+0200
TZNAME:CEST
DTSTART:20250330T010000
END:DAYLIGHT
BEGIN:STANDARD
TZOFFSETFROM:+0200
TZOFFSETTO:+0100
TZNAME:CET
DTSTART:20251026T010000
END:STANDARD
BEGIN:DAYLIGHT
TZOFFSETFROM:+0100
TZOFFSETTO:+0200
TZNAME:CEST
DTSTART:20260329T010000
END:DAYLIGHT
BEGIN:STANDARD
TZOFFSETFROM:+0200
TZOFFSETTO:+0100
TZNAME:CET
DTSTART:20261025T010000
END:STANDARD
BEGIN:DAYLIGHT
TZOFFSETFROM:+0100
TZOFFSETTO:+0200
TZNAME:CEST
DTSTART:20270328T010000
END:DAYLIGHT
BEGIN:STANDARD
TZOFFSETFROM:+0200
TZOFFSETTO:+0100
TZNAME:CET
DTSTART:20271031T010000
END:STANDARD
END:VTIMEZONE
BEGIN:VEVENT
DTSTART;TZID=Europe/Paris:20260305T190000
DTEND;TZID=Europe/Paris:20260305T190000
DTSTAMP:20260423T075627
CREATED:20250819T102817Z
LAST-MODIFIED:20250819T102829Z
UID:45106-1772737200-1772737200@www.foyerdelame.fr
SUMMARY:Ciné-club
DESCRIPTION:Les séances sont ouvertes à tous\,\ndans la salle du 2ème étage\, un jeudi par mois.\nNous commençons par un en-cas partagé à partir de 19h.\nLa projection débute à 19h45. \nL’idée est de trouver et partager des films\,\nattractifs évidemment\,\nnourrissant la réflexion nécessairement\,\npas forcément à sujet religieux\,\net qui ne sont guère visibles en vidéo\nou sur les chaînes spécialisées.\nEt de partager un débat après le film. \nLe chef opérateur est Didier You.
URL:https://www.foyerdelame.fr/event/cine-club-26/
CATEGORIES:Partage
END:VEVENT
BEGIN:VEVENT
DTSTART;TZID=Europe/Paris:20260307T103000
DTEND;TZID=Europe/Paris:20260307T103000
DTSTAMP:20260423T075628
CREATED:20250810T134147Z
LAST-MODIFIED:20250810T134156Z
UID:44726-1772879400-1772879400@www.foyerdelame.fr
SUMMARY:Évangile et liberté
DESCRIPTION:avec Laurent Gagnebin \n\n\nUn groupe de paroissiens se penche\nun samedi par mois dans la salle du 2ème étage\nsur un numéro d’Evangile et Liberté\,\nle magazine qui invite à penser et croire en toute liberté.
URL:https://www.foyerdelame.fr/event/evangile-et-liberte-15/
CATEGORIES:Groupes thématiques
END:VEVENT
BEGIN:VEVENT
DTSTART;TZID=Europe/Paris:20260310T123000
DTEND;TZID=Europe/Paris:20260310T123000
DTSTAMP:20260423T075628
CREATED:20250807T111714Z
LAST-MODIFIED:20250809T084130Z
UID:44564-1773145800-1773145800@www.foyerdelame.fr
SUMMARY:Pause biblique
DESCRIPTION:Ces rencontres mensuelles très conviviales\nont lieu un mardi par mois\,\ndans la salle du rez-de-chaussée. \nDiscussion sur un thème d’intérêt biblique
URL:https://www.foyerdelame.fr/event/pause-biblique-6/
CATEGORIES:Partage
END:VEVENT
BEGIN:VEVENT
DTSTART;TZID=Europe/Paris:20260312T123000
DTEND;TZID=Europe/Paris:20260312T133000
DTSTAMP:20260423T075628
CREATED:20250815T103237Z
LAST-MODIFIED:20250815T103244Z
UID:44962-1773318600-1773322200@www.foyerdelame.fr
SUMMARY:Pause spirituelle
DESCRIPTION:Temps de pause\,\noù l’on se pose et se dépose. \nSilence\, texte biblique\, prière et musique. \nUn moment ouvert à tous dans le temple.
URL:https://www.foyerdelame.fr/event/pause-spirituelle-22/
CATEGORIES:Groupes thématiques
END:VEVENT
BEGIN:VEVENT
DTSTART;TZID=Europe/Paris:20260315T120000
DTEND;TZID=Europe/Paris:20260315T120000
DTSTAMP:20260423T075628
CREATED:20250816T131155Z
LAST-MODIFIED:20250816T131205Z
UID:45036-1773576000-1773576000@www.foyerdelame.fr
SUMMARY:Déjeuner JMJ
DESCRIPTION:Le groupe des Jeunes et Moins Jeunes\nse réunit une dimanche par mois\, après le culte\,\ndans la salle du 2ème étage. \nRepas partagé\, tiré des sacs et ouvert à tous. \nNous y abordons des thèmes divers\,\nliturgiques ou tirés d’ouvrages.
URL:https://www.foyerdelame.fr/event/dejeuner-jmj-6/
CATEGORIES:Partage
END:VEVENT
BEGIN:VEVENT
DTSTART;TZID=Europe/Paris:20260318T193000
DTEND;TZID=Europe/Paris:20260318T193000
DTSTAMP:20260423T075628
CREATED:20250808T085639Z
LAST-MODIFIED:20250809T084111Z
UID:44609-1773862200-1773862200@www.foyerdelame.fr
SUMMARY:Groupe biblique
DESCRIPTION:Le groupe biblique se réunit\nun mercredi par mois dans la salle du 2ème étage. \nL’étude biblique est un travail de réflexion en groupe \nsur les textes bibliques pour mesurer la portée du texte\,\nce qu’il veut dire aujourd’hui.
URL:https://www.foyerdelame.fr/event/groupe-biblique-6/
CATEGORIES:Etudes Bibliques
END:VEVENT
BEGIN:VEVENT
DTSTART;TZID=Europe/Paris:20260319T123000
DTEND;TZID=Europe/Paris:20260319T133000
DTSTAMP:20260423T075628
CREATED:20250815T103402Z
LAST-MODIFIED:20250815T103408Z
UID:44965-1773923400-1773927000@www.foyerdelame.fr
SUMMARY:Pause spirituelle
DESCRIPTION:Temps de pause\,\noù l’on se pose et se dépose. \nSilence\, texte biblique\, prière et musique. \nUn moment ouvert à tous dans le temple.
URL:https://www.foyerdelame.fr/event/pause-spirituelle-23/
CATEGORIES:Groupes thématiques
END:VEVENT
BEGIN:VEVENT
DTSTART;TZID=Europe/Paris:20260320T193000
DTEND;TZID=Europe/Paris:20260320T193000
DTSTAMP:20260423T075628
CREATED:20250809T090334Z
LAST-MODIFIED:20250809T090353Z
UID:44674-1774035000-1774035000@www.foyerdelame.fr
SUMMARY:Théo et Psycho
DESCRIPTION:Le groupe réunit croyants et incroyants\ndans une atmosphère conviviale. \nNous lisons ces textes\,\nnous parlons aussi de nous\, de nos propres histoires. \nLe groupe se réunit un vendredi par mois\,\ndans la salle du 2ème étage.
URL:https://www.foyerdelame.fr/event/theo-et-psycho-15/
CATEGORIES:Groupes thématiques
END:VEVENT
BEGIN:VEVENT
DTSTART;TZID=Europe/Paris:20260326T123000
DTEND;TZID=Europe/Paris:20260326T133000
DTSTAMP:20260423T075628
CREATED:20250815T103512Z
LAST-MODIFIED:20250815T103519Z
UID:44968-1774528200-1774531800@www.foyerdelame.fr
SUMMARY:Pause spirituelle
DESCRIPTION:Temps de pause\,\noù l’on se pose et se dépose. \nSilence\, texte biblique\, prière et musique. \nUn moment ouvert à tous dans le temple.
URL:https://www.foyerdelame.fr/event/pause-spirituelle-24/
CATEGORIES:Groupes thématiques
END:VEVENT
END:VCALENDAR