BEGIN:VCALENDAR
VERSION:2.0
PRODID:-//Eglise Protestante Unie de la Bastille - ECPv6.15.20//NONSGML v1.0//EN
CALSCALE:GREGORIAN
METHOD:PUBLISH
X-ORIGINAL-URL:https://www.foyerdelame.fr
X-WR-CALDESC:Évènements pour Eglise Protestante Unie de la Bastille
REFRESH-INTERVAL;VALUE=DURATION:PT1H
X-Robots-Tag:noindex
X-PUBLISHED-TTL:PT1H
BEGIN:VTIMEZONE
TZID:Europe/Paris
BEGIN:DAYLIGHT
TZOFFSETFROM:+0100
TZOFFSETTO:+0200
TZNAME:CEST
DTSTART:20250330T010000
END:DAYLIGHT
BEGIN:STANDARD
TZOFFSETFROM:+0200
TZOFFSETTO:+0100
TZNAME:CET
DTSTART:20251026T010000
END:STANDARD
BEGIN:DAYLIGHT
TZOFFSETFROM:+0100
TZOFFSETTO:+0200
TZNAME:CEST
DTSTART:20260329T010000
END:DAYLIGHT
BEGIN:STANDARD
TZOFFSETFROM:+0200
TZOFFSETTO:+0100
TZNAME:CET
DTSTART:20261025T010000
END:STANDARD
BEGIN:DAYLIGHT
TZOFFSETFROM:+0100
TZOFFSETTO:+0200
TZNAME:CEST
DTSTART:20270328T010000
END:DAYLIGHT
BEGIN:STANDARD
TZOFFSETFROM:+0200
TZOFFSETTO:+0100
TZNAME:CET
DTSTART:20271031T010000
END:STANDARD
END:VTIMEZONE
BEGIN:VEVENT
DTSTART;TZID=Europe/Paris:20260505T123000
DTEND;TZID=Europe/Paris:20260505T123000
DTSTAMP:20260423T094603
CREATED:20250807T111841Z
LAST-MODIFIED:20250809T083857Z
UID:44570-1777984200-1777984200@www.foyerdelame.fr
SUMMARY:Pause biblique
DESCRIPTION:Ces rencontres mensuelles très conviviales\nont lieu un mardi par mois\,\ndans la salle du rez-de-chaussée. \nDiscussion sur un thème d’intérêt biblique
URL:https://www.foyerdelame.fr/event/pause-biblique-8/
CATEGORIES:Partage
END:VEVENT
BEGIN:VEVENT
DTSTART;TZID=Europe/Paris:20260507T123000
DTEND;TZID=Europe/Paris:20260507T133000
DTSTAMP:20260423T094603
CREATED:20250815T104045Z
LAST-MODIFIED:20250815T104103Z
UID:44980-1778157000-1778160600@www.foyerdelame.fr
SUMMARY:Pause spirituelle
DESCRIPTION:Temps de pause\,\noù l’on se pose et se dépose. \nSilence\, texte biblique\, prière et musique. \nUn moment ouvert à tous dans le temple.
URL:https://www.foyerdelame.fr/event/pause-spirituelle-28/
CATEGORIES:Groupes thématiques
END:VEVENT
BEGIN:VEVENT
DTSTART;TZID=Europe/Paris:20260510T120000
DTEND;TZID=Europe/Paris:20260510T120000
DTSTAMP:20260423T094603
CREATED:20250816T131357Z
LAST-MODIFIED:20250816T131429Z
UID:45042-1778414400-1778414400@www.foyerdelame.fr
SUMMARY:Déjeuner JMJ
DESCRIPTION:Le groupe des Jeunes et Moins Jeunes\nse réunit une dimanche par mois\, après le culte\,\ndans la salle du 2ème étage. \nRepas partagé\, tiré des sacs et ouvert à tous. \nNous y abordons des thèmes divers\,\nliturgiques ou tirés d’ouvrages.
URL:https://www.foyerdelame.fr/event/dejeuner-jmj-8/
CATEGORIES:Partage
END:VEVENT
BEGIN:VEVENT
DTSTART;TZID=Europe/Paris:20260513T193000
DTEND;TZID=Europe/Paris:20260513T193000
DTSTAMP:20260423T094603
CREATED:20250808T085937Z
LAST-MODIFIED:20250809T083813Z
UID:44615-1778700600-1778700600@www.foyerdelame.fr
SUMMARY:Groupe biblique
DESCRIPTION:Le groupe biblique se réunit\nun mercredi par mois dans la salle du 2ème étage. \nL’étude biblique est un travail de réflexion en groupe \nsur les textes bibliques pour mesurer la portée du texte\,\nce qu’il veut dire aujourd’hui.
URL:https://www.foyerdelame.fr/event/groupe-biblique-8/
CATEGORIES:Etudes Bibliques
END:VEVENT
BEGIN:VEVENT
DTSTART;TZID=Europe/Paris:20260514T123000
DTEND;TZID=Europe/Paris:20260514T133000
DTSTAMP:20260423T094603
CREATED:20250815T104254Z
LAST-MODIFIED:20250815T104313Z
UID:44983-1778761800-1778765400@www.foyerdelame.fr
SUMMARY:Pause spirituelle
DESCRIPTION:Temps de pause\,\noù l’on se pose et se dépose. \nSilence\, texte biblique\, prière et musique. \nUn moment ouvert à tous dans le temple.
URL:https://www.foyerdelame.fr/event/pause-spirituelle-29/
CATEGORIES:Groupes thématiques
END:VEVENT
BEGIN:VEVENT
DTSTART;TZID=Europe/Paris:20260521T123000
DTEND;TZID=Europe/Paris:20260521T133000
DTSTAMP:20260423T094603
CREATED:20250815T104518Z
LAST-MODIFIED:20250815T104525Z
UID:44986-1779366600-1779370200@www.foyerdelame.fr
SUMMARY:Pause spirituelle
DESCRIPTION:Temps de pause\,\noù l’on se pose et se dépose. \nSilence\, texte biblique\, prière et musique. \nUn moment ouvert à tous dans le temple.
URL:https://www.foyerdelame.fr/event/pause-spirituelle-30/
CATEGORIES:Groupes thématiques
END:VEVENT
BEGIN:VEVENT
DTSTART;TZID=Europe/Paris:20260521T190000
DTEND;TZID=Europe/Paris:20260521T190000
DTSTAMP:20260423T094603
CREATED:20250819T103653Z
LAST-MODIFIED:20250819T103703Z
UID:45112-1779390000-1779390000@www.foyerdelame.fr
SUMMARY:Ciné-club
DESCRIPTION:Les séances sont ouvertes à tous\,\ndans la salle du 2ème étage\, un jeudi par mois.\nNous commençons par un en-cas partagé à partir de 19h.\nLa projection débute à 19h45. \nL’idée est de trouver et partager des films\,\nattractifs évidemment\,\nnourrissant la réflexion nécessairement\,\npas forcément à sujet religieux\,\net qui ne sont guère visibles en vidéo\nou sur les chaînes spécialisées.\nEt de partager un débat après le film. \nLe chef opérateur est Didier You.
URL:https://www.foyerdelame.fr/event/cine-club-28/
CATEGORIES:Partage
END:VEVENT
BEGIN:VEVENT
DTSTART;TZID=Europe/Paris:20260522T193000
DTEND;TZID=Europe/Paris:20260522T193000
DTSTAMP:20260423T094603
CREATED:20250809T090653Z
LAST-MODIFIED:20250809T090710Z
UID:44681-1779478200-1779478200@www.foyerdelame.fr
SUMMARY:Théo et Psycho
DESCRIPTION:Le groupe réunit croyants et incroyants\ndans une atmosphère conviviale. \nNous lisons ces textes\,\nnous parlons aussi de nous\, de nos propres histoires. \nLe groupe se réunit un vendredi par mois\,\ndans la salle du 2ème étage.
URL:https://www.foyerdelame.fr/event/theo-et-psycho-17/
CATEGORIES:Groupes thématiques
END:VEVENT
BEGIN:VEVENT
DTSTART;TZID=Europe/Paris:20260528T123000
DTEND;TZID=Europe/Paris:20260528T133000
DTSTAMP:20260423T094603
CREATED:20250815T104649Z
LAST-MODIFIED:20250815T104657Z
UID:44989-1779971400-1779975000@www.foyerdelame.fr
SUMMARY:Pause spirituelle
DESCRIPTION:Temps de pause\,\noù l’on se pose et se dépose. \nSilence\, texte biblique\, prière et musique. \nUn moment ouvert à tous dans le temple.
URL:https://www.foyerdelame.fr/event/pause-spirituelle-31/
CATEGORIES:Groupes thématiques
END:VEVENT
BEGIN:VEVENT
DTSTART;TZID=Europe/Paris:20260530T103000
DTEND;TZID=Europe/Paris:20260530T103000
DTSTAMP:20260423T094603
CREATED:20250810T134437Z
LAST-MODIFIED:20250810T134447Z
UID:44732-1780137000-1780137000@www.foyerdelame.fr
SUMMARY:Évangile et liberté
DESCRIPTION:avec Laurent Gagnebin \n\n\nUn groupe de paroissiens se penche\nun samedi par mois dans la salle du 2ème étage\nsur un numéro d’Evangile et Liberté\,\nle magazine qui invite à penser et croire en toute liberté.
URL:https://www.foyerdelame.fr/event/evangile-et-liberte-17/
CATEGORIES:Groupes thématiques
END:VEVENT
END:VCALENDAR