BEGIN:VCALENDAR
VERSION:2.0
PRODID:-//Eglise Protestante Unie de la Bastille - ECPv6.15.20//NONSGML v1.0//EN
CALSCALE:GREGORIAN
METHOD:PUBLISH
X-ORIGINAL-URL:https://www.foyerdelame.fr
X-WR-CALDESC:Évènements pour Eglise Protestante Unie de la Bastille
REFRESH-INTERVAL;VALUE=DURATION:PT1H
X-Robots-Tag:noindex
X-PUBLISHED-TTL:PT1H
BEGIN:VTIMEZONE
TZID:Europe/Paris
BEGIN:DAYLIGHT
TZOFFSETFROM:+0100
TZOFFSETTO:+0200
TZNAME:CEST
DTSTART:20250330T010000
END:DAYLIGHT
BEGIN:STANDARD
TZOFFSETFROM:+0200
TZOFFSETTO:+0100
TZNAME:CET
DTSTART:20251026T010000
END:STANDARD
BEGIN:DAYLIGHT
TZOFFSETFROM:+0100
TZOFFSETTO:+0200
TZNAME:CEST
DTSTART:20260329T010000
END:DAYLIGHT
BEGIN:STANDARD
TZOFFSETFROM:+0200
TZOFFSETTO:+0100
TZNAME:CET
DTSTART:20261025T010000
END:STANDARD
BEGIN:DAYLIGHT
TZOFFSETFROM:+0100
TZOFFSETTO:+0200
TZNAME:CEST
DTSTART:20270328T010000
END:DAYLIGHT
BEGIN:STANDARD
TZOFFSETFROM:+0200
TZOFFSETTO:+0100
TZNAME:CET
DTSTART:20271031T010000
END:STANDARD
END:VTIMEZONE
BEGIN:VEVENT
DTSTART;TZID=Europe/Paris:20260602T123000
DTEND;TZID=Europe/Paris:20260602T123000
DTSTAMP:20260423T112035
CREATED:20250807T111924Z
LAST-MODIFIED:20250809T083539Z
UID:44573-1780403400-1780403400@www.foyerdelame.fr
SUMMARY:Pause biblique
DESCRIPTION:Ces rencontres mensuelles très conviviales\nont lieu un mardi par mois\,\ndans la salle du rez-de-chaussée. \nDiscussion sur un thème d’intérêt biblique
URL:https://www.foyerdelame.fr/event/pause-biblique-9/
CATEGORIES:Partage
END:VEVENT
BEGIN:VEVENT
DTSTART;TZID=Europe/Paris:20260604T123000
DTEND;TZID=Europe/Paris:20260604T133000
DTSTAMP:20260423T112035
CREATED:20250815T104810Z
LAST-MODIFIED:20250815T104820Z
UID:44992-1780576200-1780579800@www.foyerdelame.fr
SUMMARY:Pause spirituelle
DESCRIPTION:Temps de pause\,\noù l’on se pose et se dépose. \nSilence\, texte biblique\, prière et musique. \nUn moment ouvert à tous dans le temple.
URL:https://www.foyerdelame.fr/event/pause-spirituelle-32/
CATEGORIES:Groupes thématiques
END:VEVENT
BEGIN:VEVENT
DTSTART;TZID=Europe/Paris:20260604T190000
DTEND;TZID=Europe/Paris:20260604T190000
DTSTAMP:20260423T112035
CREATED:20250819T103756Z
LAST-MODIFIED:20250819T103814Z
UID:45115-1780599600-1780599600@www.foyerdelame.fr
SUMMARY:Ciné-club
DESCRIPTION:Les séances sont ouvertes à tous\,\ndans la salle du 2ème étage\, un jeudi par mois.\nNous commençons par un en-cas partagé à partir de 19h.\nLa projection débute à 19h45. \nL’idée est de trouver et partager des films\,\nattractifs évidemment\,\nnourrissant la réflexion nécessairement\,\npas forcément à sujet religieux\,\net qui ne sont guère visibles en vidéo\nou sur les chaînes spécialisées.\nEt de partager un débat après le film. \nLe chef opérateur est Didier You.
URL:https://www.foyerdelame.fr/event/cine-club-29/
CATEGORIES:Partage
END:VEVENT
BEGIN:VEVENT
DTSTART;TZID=Europe/Paris:20260606T110000
DTEND;TZID=Europe/Paris:20260606T123000
DTSTAMP:20260423T112035
CREATED:20250812T122302Z
LAST-MODIFIED:20250812T122302Z
UID:44773-1780743600-1780749000@www.foyerdelame.fr
SUMMARY:Ciel et Terre
DESCRIPTION:Le groupe Ciel et Terre se propose\nd’envisager des questions \nde théologie ou de philosophie \ndans leur rapport à l’expérience concrète\, \npersonnelle ou collective. \nDans ce but\, les séances bimestrielles \nprendront pour point de départ\ndes thèmes\, ou des textes\,\nbrièvement présentés par un ou par une des participants\net faisant ensuite l’objet d’une approche commune.
URL:https://www.foyerdelame.fr/event/ciel-et-terre-14/
CATEGORIES:Groupes thématiques
END:VEVENT
BEGIN:VEVENT
DTSTART;TZID=Europe/Paris:20260610T193000
DTEND;TZID=Europe/Paris:20260610T193000
DTSTAMP:20260423T112035
CREATED:20250808T090043Z
LAST-MODIFIED:20250809T083216Z
UID:44617-1781119800-1781119800@www.foyerdelame.fr
SUMMARY:Groupe biblique
DESCRIPTION:Le groupe biblique se réunit\nun mercredi par mois dans la salle du 2ème étage. \nL’étude biblique est un travail de réflexion en groupe \nsur les textes bibliques pour mesurer la portée du texte\,\nce qu’il veut dire aujourd’hui.
URL:https://www.foyerdelame.fr/event/groupe-biblique-9/
CATEGORIES:Etudes Bibliques
END:VEVENT
BEGIN:VEVENT
DTSTART;TZID=Europe/Paris:20260611T123000
DTEND;TZID=Europe/Paris:20260611T133000
DTSTAMP:20260423T112035
CREATED:20250815T104910Z
LAST-MODIFIED:20250815T104919Z
UID:44995-1781181000-1781184600@www.foyerdelame.fr
SUMMARY:Pause spirituelle
DESCRIPTION:Temps de pause\,\noù l’on se pose et se dépose. \nSilence\, texte biblique\, prière et musique. \nUn moment ouvert à tous dans le temple.
URL:https://www.foyerdelame.fr/event/pause-spirituelle-33/
CATEGORIES:Groupes thématiques
END:VEVENT
BEGIN:VEVENT
DTSTART;TZID=Europe/Paris:20260613T103000
DTEND;TZID=Europe/Paris:20260613T103000
DTSTAMP:20260423T112035
CREATED:20250810T134549Z
LAST-MODIFIED:20250810T134608Z
UID:44735-1781346600-1781346600@www.foyerdelame.fr
SUMMARY:Évangile et liberté
DESCRIPTION:avec Laurent Gagnebin \n\n\nUn groupe de paroissiens se penche\nun samedi par mois dans la salle du 2ème étage\nsur un numéro d’Evangile et Liberté\,\nle magazine qui invite à penser et croire en toute liberté.
URL:https://www.foyerdelame.fr/event/evangile-et-liberte-18/
CATEGORIES:Groupes thématiques
END:VEVENT
BEGIN:VEVENT
DTSTART;TZID=Europe/Paris:20260614T120000
DTEND;TZID=Europe/Paris:20260614T120000
DTSTAMP:20260423T112035
CREATED:20250816T131517Z
LAST-MODIFIED:20250816T131529Z
UID:45045-1781438400-1781438400@www.foyerdelame.fr
SUMMARY:Déjeuner JMJ
DESCRIPTION:Le groupe des Jeunes et Moins Jeunes\nse réunit une dimanche par mois\, après le culte\,\ndans la salle du 2ème étage. \nRepas partagé\, tiré des sacs et ouvert à tous. \nNous y abordons des thèmes divers\,\nliturgiques ou tirés d’ouvrages.
URL:https://www.foyerdelame.fr/event/dejeuner-jmj-9/
CATEGORIES:Partage
END:VEVENT
BEGIN:VEVENT
DTSTART;TZID=Europe/Paris:20260618T123000
DTEND;TZID=Europe/Paris:20260618T133000
DTSTAMP:20260423T112035
CREATED:20250815T105019Z
LAST-MODIFIED:20250815T105027Z
UID:44998-1781785800-1781789400@www.foyerdelame.fr
SUMMARY:Pause spirituelle
DESCRIPTION:Temps de pause\,\noù l’on se pose et se dépose. \nSilence\, texte biblique\, prière et musique. \nUn moment ouvert à tous dans le temple.
URL:https://www.foyerdelame.fr/event/pause-spirituelle-34/
CATEGORIES:Groupes thématiques
END:VEVENT
BEGIN:VEVENT
DTSTART;TZID=Europe/Paris:20260619T193000
DTEND;TZID=Europe/Paris:20260619T193000
DTSTAMP:20260423T112035
CREATED:20250809T090819Z
LAST-MODIFIED:20250809T090837Z
UID:44684-1781897400-1781897400@www.foyerdelame.fr
SUMMARY:Théo et Psycho
DESCRIPTION:Le groupe réunit croyants et incroyants\ndans une atmosphère conviviale. \nNous lisons ces textes\,\nnous parlons aussi de nous\, de nos propres histoires. \nLe groupe se réunit un vendredi par mois\,\ndans la salle du 2ème étage.
URL:https://www.foyerdelame.fr/event/theo-et-psycho-18/
CATEGORIES:Groupes thématiques
END:VEVENT
BEGIN:VEVENT
DTSTART;TZID=Europe/Paris:20260625T123000
DTEND;TZID=Europe/Paris:20260625T133000
DTSTAMP:20260423T112035
CREATED:20250815T105115Z
LAST-MODIFIED:20250815T105122Z
UID:45001-1782390600-1782394200@www.foyerdelame.fr
SUMMARY:Pause spirituelle
DESCRIPTION:Temps de pause\,\noù l’on se pose et se dépose. \nSilence\, texte biblique\, prière et musique. \nUn moment ouvert à tous dans le temple.
URL:https://www.foyerdelame.fr/event/pause-spirituelle-35/
CATEGORIES:Groupes thématiques
END:VEVENT
END:VCALENDAR