BEGIN:VCALENDAR
VERSION:2.0
PRODID:-//Eglise Protestante Unie de la Bastille - ECPv6.15.20//NONSGML v1.0//EN
CALSCALE:GREGORIAN
METHOD:PUBLISH
X-WR-CALNAME:Eglise Protestante Unie de la Bastille
X-ORIGINAL-URL:https://www.foyerdelame.fr
X-WR-CALDESC:Évènements pour Eglise Protestante Unie de la Bastille
REFRESH-INTERVAL;VALUE=DURATION:PT1H
X-Robots-Tag:noindex
X-PUBLISHED-TTL:PT1H
BEGIN:VTIMEZONE
TZID:Europe/Paris
BEGIN:DAYLIGHT
TZOFFSETFROM:+0100
TZOFFSETTO:+0200
TZNAME:CEST
DTSTART:20240331T010000
END:DAYLIGHT
BEGIN:STANDARD
TZOFFSETFROM:+0200
TZOFFSETTO:+0100
TZNAME:CET
DTSTART:20241027T010000
END:STANDARD
BEGIN:DAYLIGHT
TZOFFSETFROM:+0100
TZOFFSETTO:+0200
TZNAME:CEST
DTSTART:20250330T010000
END:DAYLIGHT
BEGIN:STANDARD
TZOFFSETFROM:+0200
TZOFFSETTO:+0100
TZNAME:CET
DTSTART:20251026T010000
END:STANDARD
BEGIN:DAYLIGHT
TZOFFSETFROM:+0100
TZOFFSETTO:+0200
TZNAME:CEST
DTSTART:20260329T010000
END:DAYLIGHT
BEGIN:STANDARD
TZOFFSETFROM:+0200
TZOFFSETTO:+0100
TZNAME:CET
DTSTART:20261025T010000
END:STANDARD
END:VTIMEZONE
BEGIN:VEVENT
DTSTART;TZID=Europe/Paris:20250501T123000
DTEND;TZID=Europe/Paris:20250501T133000
DTSTAMP:20260423T042330
CREATED:20240815T091448Z
LAST-MODIFIED:20240815T091448Z
UID:37041-1746102600-1746106200@www.foyerdelame.fr
SUMMARY:Pause spirituelle
DESCRIPTION:Temps de pause\,\noù l’on se pose et se dépose. \nSilence\, texte biblique\, prière et musique. \nUn moment ouvert à tous dans le temple.
URL:https://www.foyerdelame.fr/event/pause-spirituelle-82/
CATEGORIES:Adultes,Groupes thématiques
END:VEVENT
BEGIN:VEVENT
DTSTART;TZID=Europe/Paris:20250508T123000
DTEND;TZID=Europe/Paris:20250508T133000
DTSTAMP:20260423T042330
CREATED:20240815T091534Z
LAST-MODIFIED:20240815T091534Z
UID:37044-1746707400-1746711000@www.foyerdelame.fr
SUMMARY:Pause spirituelle
DESCRIPTION:Temps de pause\,\noù l’on se pose et se dépose. \nSilence\, texte biblique\, prière et musique. \nUn moment ouvert à tous dans le temple.
URL:https://www.foyerdelame.fr/event/pause-spirituelle-83/
CATEGORIES:Adultes,Groupes thématiques
END:VEVENT
BEGIN:VEVENT
DTSTART;TZID=Europe/Paris:20250515T123000
DTEND;TZID=Europe/Paris:20250515T133000
DTSTAMP:20260423T042330
CREATED:20240815T091626Z
LAST-MODIFIED:20240815T091626Z
UID:37047-1747312200-1747315800@www.foyerdelame.fr
SUMMARY:Pause spirituelle
DESCRIPTION:Temps de pause\,\noù l’on se pose et se dépose. \nSilence\, texte biblique\, prière et musique. \nUn moment ouvert à tous dans le temple.
URL:https://www.foyerdelame.fr/event/pause-spirituelle-84/
CATEGORIES:Adultes,Groupes thématiques
END:VEVENT
BEGIN:VEVENT
DTSTART;TZID=Europe/Paris:20250516T193000
DTEND;TZID=Europe/Paris:20250516T210000
DTSTAMP:20260423T042330
CREATED:20240710T101632Z
LAST-MODIFIED:20240710T101632Z
UID:35998-1747423800-1747429200@www.foyerdelame.fr
SUMMARY:Théo et Psycho
DESCRIPTION:Le groupe réunit croyants et incroyants\ndans une atmosphère conviviale. \nNous lisons ces textes\,\nnous parlons aussi de nous\, de nos propres histoires. \nLe groupe se réunit un vendredi par mois\,\ndans la salle du 2ème étage.
URL:https://www.foyerdelame.fr/event/theo-et-psycho-8/
CATEGORIES:Adultes,Groupes thématiques
END:VEVENT
BEGIN:VEVENT
DTSTART;TZID=Europe/Paris:20250517T143000
DTEND;TZID=Europe/Paris:20250517T160000
DTSTAMP:20260423T042330
CREATED:20240803T103016Z
LAST-MODIFIED:20241214T191121Z
UID:36798-1747492200-1747497600@www.foyerdelame.fr
SUMMARY:Ciel et Terre
DESCRIPTION:Le groupe Ciel et terre se propose d’envisager des questions de théologie ou de philosophie dans leur rapport à l’expérience concrète\, personnelle ou collective. \nDans ce but\, les séances mensuelles (d’une durée d’une heure et demie à deux heures) dans la salle du 2ème étage prendront pour point de départ des thèmes\, ou des textes\, brièvement présentés par un ou par une des participants et faisant ensuite l’objet d’une approche commune.
URL:https://www.foyerdelame.fr/event/ciel-et-terre-9/
CATEGORIES:Adultes,Groupes thématiques
END:VEVENT
BEGIN:VEVENT
DTSTART;TZID=Europe/Paris:20250522T123000
DTEND;TZID=Europe/Paris:20250522T133000
DTSTAMP:20260423T042330
CREATED:20240815T091809Z
LAST-MODIFIED:20240815T091809Z
UID:37050-1747917000-1747920600@www.foyerdelame.fr
SUMMARY:Pause spirituelle
DESCRIPTION:Temps de pause\,\noù l’on se pose et se dépose. \nSilence\, texte biblique\, prière et musique. \nUn moment ouvert à tous dans le temple.
URL:https://www.foyerdelame.fr/event/pause-spirituelle-85/
CATEGORIES:Adultes,Groupes thématiques
END:VEVENT
BEGIN:VEVENT
DTSTART;TZID=Europe/Paris:20250524T103000
DTEND;TZID=Europe/Paris:20250524T120000
DTSTAMP:20260423T042330
CREATED:20240710T103837Z
LAST-MODIFIED:20240710T103837Z
UID:36029-1748082600-1748088000@www.foyerdelame.fr
SUMMARY:Évangile et liberté
DESCRIPTION:avec Laurent Gagnebin \n\n\nUn groupe de paroissiens se penche\nun samedi par mois dans la salle du 2ème étage\nsur un numéro d’Evangile et Liberté\,\nle magazine qui invite à penser et croire en toute liberté.
URL:https://www.foyerdelame.fr/event/evangile-et-liberte-8/
CATEGORIES:Adultes,Groupes thématiques
END:VEVENT
BEGIN:VEVENT
DTSTART;TZID=Europe/Paris:20250529T123000
DTEND;TZID=Europe/Paris:20250529T133000
DTSTAMP:20260423T042330
CREATED:20240815T091905Z
LAST-MODIFIED:20240815T091905Z
UID:37053-1748521800-1748525400@www.foyerdelame.fr
SUMMARY:Pause spirituelle
DESCRIPTION:Temps de pause\,\noù l’on se pose et se dépose. \nSilence\, texte biblique\, prière et musique. \nUn moment ouvert à tous dans le temple.
URL:https://www.foyerdelame.fr/event/pause-spirituelle-86/
CATEGORIES:Adultes,Groupes thématiques
END:VEVENT
END:VCALENDAR