BEGIN:VCALENDAR
VERSION:2.0
PRODID:-//Eglise Protestante Unie de la Bastille - ECPv6.15.20//NONSGML v1.0//EN
CALSCALE:GREGORIAN
METHOD:PUBLISH
X-ORIGINAL-URL:https://www.foyerdelame.fr
X-WR-CALDESC:Évènements pour Eglise Protestante Unie de la Bastille
REFRESH-INTERVAL;VALUE=DURATION:PT1H
X-Robots-Tag:noindex
X-PUBLISHED-TTL:PT1H
BEGIN:VTIMEZONE
TZID:Europe/Paris
BEGIN:DAYLIGHT
TZOFFSETFROM:+0100
TZOFFSETTO:+0200
TZNAME:CEST
DTSTART:20240331T010000
END:DAYLIGHT
BEGIN:STANDARD
TZOFFSETFROM:+0200
TZOFFSETTO:+0100
TZNAME:CET
DTSTART:20241027T010000
END:STANDARD
BEGIN:DAYLIGHT
TZOFFSETFROM:+0100
TZOFFSETTO:+0200
TZNAME:CEST
DTSTART:20250330T010000
END:DAYLIGHT
BEGIN:STANDARD
TZOFFSETFROM:+0200
TZOFFSETTO:+0100
TZNAME:CET
DTSTART:20251026T010000
END:STANDARD
BEGIN:DAYLIGHT
TZOFFSETFROM:+0100
TZOFFSETTO:+0200
TZNAME:CEST
DTSTART:20260329T010000
END:DAYLIGHT
BEGIN:STANDARD
TZOFFSETFROM:+0200
TZOFFSETTO:+0100
TZNAME:CET
DTSTART:20261025T010000
END:STANDARD
END:VTIMEZONE
BEGIN:VEVENT
DTSTART;TZID=Europe/Paris:20250605T123000
DTEND;TZID=Europe/Paris:20250605T133000
DTSTAMP:20260423T024011
CREATED:20240815T092902Z
LAST-MODIFIED:20240815T092902Z
UID:37056-1749126600-1749130200@www.foyerdelame.fr
SUMMARY:Pause spirituelle
DESCRIPTION:Temps de pause\,\noù l’on se pose et se dépose. \nSilence\, texte biblique\, prière et musique. \nUn moment ouvert à tous dans le temple.
URL:https://www.foyerdelame.fr/event/pause-spirituelle-87/
CATEGORIES:Adultes,Groupes thématiques
END:VEVENT
BEGIN:VEVENT
DTSTART;TZID=Europe/Paris:20250606T193000
DTEND;TZID=Europe/Paris:20250606T210000
DTSTAMP:20260423T024011
CREATED:20240710T101753Z
LAST-MODIFIED:20240710T101753Z
UID:36001-1749238200-1749243600@www.foyerdelame.fr
SUMMARY:Théo et Psycho
DESCRIPTION:Le groupe réunit croyants et incroyants\ndans une atmosphère conviviale. \nNous lisons ces textes\,\nnous parlons aussi de nous\, de nos propres histoires. \nLe groupe se réunit un vendredi par mois\,\ndans la salle du 2ème étage.
URL:https://www.foyerdelame.fr/event/theo-et-psycho-9/
CATEGORIES:Adultes,Groupes thématiques
END:VEVENT
BEGIN:VEVENT
DTSTART;TZID=Europe/Paris:20250607T103000
DTEND;TZID=Europe/Paris:20250607T120000
DTSTAMP:20260423T024011
CREATED:20240710T103945Z
LAST-MODIFIED:20240710T103945Z
UID:36032-1749292200-1749297600@www.foyerdelame.fr
SUMMARY:Évangile et liberté
DESCRIPTION:avec Laurent Gagnebin \n\n\nUn groupe de paroissiens se penche\nun samedi par mois dans la salle du 2ème étage\nsur un numéro d’Evangile et Liberté\,\nle magazine qui invite à penser et croire en toute liberté.
URL:https://www.foyerdelame.fr/event/evangile-et-liberte-9/
CATEGORIES:Adultes,Groupes thématiques
END:VEVENT
BEGIN:VEVENT
DTSTART;TZID=Europe/Paris:20250612T123000
DTEND;TZID=Europe/Paris:20250612T133000
DTSTAMP:20260423T024011
CREATED:20240815T093331Z
LAST-MODIFIED:20240815T093331Z
UID:37059-1749731400-1749735000@www.foyerdelame.fr
SUMMARY:Pause spirituelle
DESCRIPTION:Temps de pause\,\noù l’on se pose et se dépose. \nSilence\, texte biblique\, prière et musique. \nUn moment ouvert à tous dans le temple.
URL:https://www.foyerdelame.fr/event/pause-spirituelle-88/
CATEGORIES:Adultes,Groupes thématiques
END:VEVENT
BEGIN:VEVENT
DTSTART;TZID=Europe/Paris:20250614T143000
DTEND;TZID=Europe/Paris:20250614T160000
DTSTAMP:20260423T024011
CREATED:20250612T145531Z
LAST-MODIFIED:20250612T145531Z
UID:43440-1749911400-1749916800@www.foyerdelame.fr
SUMMARY:Ciel et Terre
DESCRIPTION:
URL:https://www.foyerdelame.fr/event/ciel-et-terre/
CATEGORIES:Groupes thématiques
END:VEVENT
BEGIN:VEVENT
DTSTART;TZID=Europe/Paris:20250619T123000
DTEND;TZID=Europe/Paris:20250619T133000
DTSTAMP:20260423T024011
CREATED:20240815T093433Z
LAST-MODIFIED:20240815T093433Z
UID:37062-1750336200-1750339800@www.foyerdelame.fr
SUMMARY:Pause spirituelle
DESCRIPTION:Temps de pause\,\noù l’on se pose et se dépose. \nSilence\, texte biblique\, prière et musique. \nUn moment ouvert à tous dans le temple.
URL:https://www.foyerdelame.fr/event/pause-spirituelle-89/
CATEGORIES:Adultes,Groupes thématiques
END:VEVENT
BEGIN:VEVENT
DTSTART;TZID=Europe/Paris:20250626T123000
DTEND;TZID=Europe/Paris:20250626T133000
DTSTAMP:20260423T024011
CREATED:20240815T093515Z
LAST-MODIFIED:20240815T093515Z
UID:37065-1750941000-1750944600@www.foyerdelame.fr
SUMMARY:Pause spirituelle
DESCRIPTION:Temps de pause\,\noù l’on se pose et se dépose. \nSilence\, texte biblique\, prière et musique. \nUn moment ouvert à tous dans le temple.
URL:https://www.foyerdelame.fr/event/pause-spirituelle-90/
CATEGORIES:Adultes,Groupes thématiques
END:VEVENT
END:VCALENDAR