BEGIN:VCALENDAR
VERSION:2.0
PRODID:-//Eglise Protestante Unie de la Bastille - ECPv6.15.20//NONSGML v1.0//EN
CALSCALE:GREGORIAN
METHOD:PUBLISH
X-ORIGINAL-URL:https://www.foyerdelame.fr
X-WR-CALDESC:Évènements pour Eglise Protestante Unie de la Bastille
REFRESH-INTERVAL;VALUE=DURATION:PT1H
X-Robots-Tag:noindex
X-PUBLISHED-TTL:PT1H
BEGIN:VTIMEZONE
TZID:Europe/Paris
BEGIN:DAYLIGHT
TZOFFSETFROM:+0100
TZOFFSETTO:+0200
TZNAME:CEST
DTSTART:20240331T010000
END:DAYLIGHT
BEGIN:STANDARD
TZOFFSETFROM:+0200
TZOFFSETTO:+0100
TZNAME:CET
DTSTART:20241027T010000
END:STANDARD
BEGIN:DAYLIGHT
TZOFFSETFROM:+0100
TZOFFSETTO:+0200
TZNAME:CEST
DTSTART:20250330T010000
END:DAYLIGHT
BEGIN:STANDARD
TZOFFSETFROM:+0200
TZOFFSETTO:+0100
TZNAME:CET
DTSTART:20251026T010000
END:STANDARD
BEGIN:DAYLIGHT
TZOFFSETFROM:+0100
TZOFFSETTO:+0200
TZNAME:CEST
DTSTART:20260329T010000
END:DAYLIGHT
BEGIN:STANDARD
TZOFFSETFROM:+0200
TZOFFSETTO:+0100
TZNAME:CET
DTSTART:20261025T010000
END:STANDARD
END:VTIMEZONE
BEGIN:VEVENT
DTSTART;TZID=Europe/Paris:20251002T123000
DTEND;TZID=Europe/Paris:20251002T133000
DTSTAMP:20260423T010426
CREATED:20250815T095417Z
LAST-MODIFIED:20250815T095436Z
UID:44905-1759408200-1759411800@www.foyerdelame.fr
SUMMARY:Pause spirituelle
DESCRIPTION:Temps de pause\,\noù l’on se pose et se dépose. \nSilence\, texte biblique\, prière et musique. \nUn moment ouvert à tous dans le temple.
URL:https://www.foyerdelame.fr/event/pause-spirituelle-5/
CATEGORIES:Groupes thématiques
END:VEVENT
BEGIN:VEVENT
DTSTART;TZID=Europe/Paris:20251003T193000
DTEND;TZID=Europe/Paris:20251003T210000
DTSTAMP:20260423T010426
CREATED:20250809T085118Z
LAST-MODIFIED:20250927T125553Z
UID:44655-1759519800-1759525200@www.foyerdelame.fr
SUMMARY:Théo et Psycho
DESCRIPTION:Le groupe réunit croyants et incroyants\ndans une atmosphère conviviale. \nNous lisons ces textes\,\nnous parlons aussi de nous\, de nos propres histoires. \nLe groupe se réunit un vendredi par mois\,\ndans la salle du 2ème étage.
URL:https://www.foyerdelame.fr/event/theo-et-psycho-10/
CATEGORIES:Groupes thématiques
END:VEVENT
BEGIN:VEVENT
DTSTART;TZID=Europe/Paris:20251004T103000
DTEND;TZID=Europe/Paris:20251004T120000
DTSTAMP:20260423T010426
CREATED:20250810T133342Z
LAST-MODIFIED:20250927T125626Z
UID:44711-1759573800-1759579200@www.foyerdelame.fr
SUMMARY:Évangile et liberté
DESCRIPTION:avec Laurent Gagnebin \n\n\nUn groupe de paroissiens se penche\nun samedi par mois dans la salle du 2ème étage\nsur un numéro d’Evangile et Liberté\,\nle magazine qui invite à penser et croire en toute liberté.
URL:https://www.foyerdelame.fr/event/evangile-et-liberte-10/
CATEGORIES:Groupes thématiques
END:VEVENT
BEGIN:VEVENT
DTSTART;TZID=Europe/Paris:20251009T123000
DTEND;TZID=Europe/Paris:20251009T133000
DTSTAMP:20260423T010426
CREATED:20250815T095831Z
LAST-MODIFIED:20250815T095844Z
UID:44908-1760013000-1760016600@www.foyerdelame.fr
SUMMARY:Pause spirituelle
DESCRIPTION:Temps de pause\,\noù l’on se pose et se dépose. \nSilence\, texte biblique\, prière et musique. \nUn moment ouvert à tous dans le temple.
URL:https://www.foyerdelame.fr/event/pause-spirituelle-6/
CATEGORIES:Groupes thématiques
END:VEVENT
BEGIN:VEVENT
DTSTART;TZID=Europe/Paris:20251011T110000
DTEND;TZID=Europe/Paris:20251011T123000
DTSTAMP:20260423T010426
CREATED:20250812T114435Z
LAST-MODIFIED:20250812T121620Z
UID:44760-1760180400-1760185800@www.foyerdelame.fr
SUMMARY:Ciel et Terre
DESCRIPTION:Le groupe Ciel et Terre se propose\nd’envisager des questions\nde théologie ou de philosophie\ndans leur rapport à l’expérience concrète\,\npersonnelle ou collective. \nDans ce but\, les séances bimestrielles\nprendront pour point de départ\ndes thèmes\, ou des textes\,\nbrièvement présentés par un ou par une des participants\net faisant ensuite l’objet d’une approche commune.
URL:https://www.foyerdelame.fr/event/ciel-et-terre-10/
CATEGORIES:Groupes thématiques
END:VEVENT
BEGIN:VEVENT
DTSTART;TZID=Europe/Paris:20251016T123000
DTEND;TZID=Europe/Paris:20251016T133000
DTSTAMP:20260423T010426
CREATED:20250815T095942Z
LAST-MODIFIED:20250815T095950Z
UID:44911-1760617800-1760621400@www.foyerdelame.fr
SUMMARY:Pause spirituelle
DESCRIPTION:Temps de pause\,\noù l’on se pose et se dépose. \nSilence\, texte biblique\, prière et musique. \nUn moment ouvert à tous dans le temple.
URL:https://www.foyerdelame.fr/event/pause-spirituelle-7/
CATEGORIES:Groupes thématiques
END:VEVENT
END:VCALENDAR