BEGIN:VCALENDAR
VERSION:2.0
PRODID:-//Eglise Protestante Unie de la Bastille - ECPv6.15.20//NONSGML v1.0//EN
CALSCALE:GREGORIAN
METHOD:PUBLISH
X-WR-CALNAME:Eglise Protestante Unie de la Bastille
X-ORIGINAL-URL:https://www.foyerdelame.fr
X-WR-CALDESC:Évènements pour Eglise Protestante Unie de la Bastille
REFRESH-INTERVAL;VALUE=DURATION:PT1H
X-Robots-Tag:noindex
X-PUBLISHED-TTL:PT1H
BEGIN:VTIMEZONE
TZID:Europe/Paris
BEGIN:DAYLIGHT
TZOFFSETFROM:+0100
TZOFFSETTO:+0200
TZNAME:CEST
DTSTART:20250330T010000
END:DAYLIGHT
BEGIN:STANDARD
TZOFFSETFROM:+0200
TZOFFSETTO:+0100
TZNAME:CET
DTSTART:20251026T010000
END:STANDARD
BEGIN:DAYLIGHT
TZOFFSETFROM:+0100
TZOFFSETTO:+0200
TZNAME:CEST
DTSTART:20260329T010000
END:DAYLIGHT
BEGIN:STANDARD
TZOFFSETFROM:+0200
TZOFFSETTO:+0100
TZNAME:CET
DTSTART:20261025T010000
END:STANDARD
BEGIN:DAYLIGHT
TZOFFSETFROM:+0100
TZOFFSETTO:+0200
TZNAME:CEST
DTSTART:20270328T010000
END:DAYLIGHT
BEGIN:STANDARD
TZOFFSETFROM:+0200
TZOFFSETTO:+0100
TZNAME:CET
DTSTART:20271031T010000
END:STANDARD
END:VTIMEZONE
BEGIN:VEVENT
DTSTART;TZID=Europe/Paris:20260108T123000
DTEND;TZID=Europe/Paris:20260108T133000
DTSTAMP:20260422T141346
CREATED:20250815T101800Z
LAST-MODIFIED:20250815T101809Z
UID:44941-1767875400-1767879000@www.foyerdelame.fr
SUMMARY:Pause spirituelle
DESCRIPTION:Temps de pause\,\noù l’on se pose et se dépose. \nSilence\, texte biblique\, prière et musique. \nUn moment ouvert à tous dans le temple.
URL:https://www.foyerdelame.fr/event/pause-spirituelle-15/
CATEGORIES:Groupes thématiques
END:VEVENT
BEGIN:VEVENT
DTSTART;TZID=Europe/Paris:20260110T103000
DTEND;TZID=Europe/Paris:20260110T103000
DTSTAMP:20260422T141346
CREATED:20250810T133851Z
LAST-MODIFIED:20250810T133910Z
UID:44720-1768041000-1768041000@www.foyerdelame.fr
SUMMARY:Évangile et liberté
DESCRIPTION:avec Laurent Gagnebin \n\n\nUn groupe de paroissiens se penche\nun samedi par mois dans la salle du 2ème étage\nsur un numéro d’Evangile et Liberté\,\nle magazine qui invite à penser et croire en toute liberté.
URL:https://www.foyerdelame.fr/event/evangile-et-liberte-13/
CATEGORIES:Groupes thématiques
END:VEVENT
BEGIN:VEVENT
DTSTART;TZID=Europe/Paris:20260115T123000
DTEND;TZID=Europe/Paris:20260115T133000
DTSTAMP:20260422T141346
CREATED:20250815T101926Z
LAST-MODIFIED:20250815T101940Z
UID:44944-1768480200-1768483800@www.foyerdelame.fr
SUMMARY:Pause spirituelle
DESCRIPTION:Temps de pause\,\noù l’on se pose et se dépose. \nSilence\, texte biblique\, prière et musique. \nUn moment ouvert à tous dans le temple.
URL:https://www.foyerdelame.fr/event/pause-spirituelle-16/
CATEGORIES:Groupes thématiques
END:VEVENT
BEGIN:VEVENT
DTSTART;TZID=Europe/Paris:20260116T193000
DTEND;TZID=Europe/Paris:20260116T193000
DTSTAMP:20260422T141346
CREATED:20250809T085924Z
LAST-MODIFIED:20250809T085944Z
UID:44665-1768591800-1768591800@www.foyerdelame.fr
SUMMARY:Théo et Psycho
DESCRIPTION:Le groupe réunit croyants et incroyants\ndans une atmosphère conviviale. \nNous lisons ces textes\,\nnous parlons aussi de nous\, de nos propres histoires. \nLe groupe se réunit un vendredi par mois\,\ndans la salle du 2ème étage.
URL:https://www.foyerdelame.fr/event/theo-et-psycho-13/
CATEGORIES:Groupes thématiques
END:VEVENT
BEGIN:VEVENT
DTSTART;TZID=Europe/Paris:20260122T123000
DTEND;TZID=Europe/Paris:20260122T133000
DTSTAMP:20260422T141346
CREATED:20250815T102035Z
LAST-MODIFIED:20250815T102042Z
UID:44947-1769085000-1769088600@www.foyerdelame.fr
SUMMARY:Pause spirituelle
DESCRIPTION:Temps de pause\,\noù l’on se pose et se dépose. \nSilence\, texte biblique\, prière et musique. \nUn moment ouvert à tous dans le temple.
URL:https://www.foyerdelame.fr/event/pause-spirituelle-17/
CATEGORIES:Groupes thématiques
END:VEVENT
BEGIN:VEVENT
DTSTART;TZID=Europe/Paris:20260129T123000
DTEND;TZID=Europe/Paris:20260129T133000
DTSTAMP:20260422T141346
CREATED:20250815T102207Z
LAST-MODIFIED:20250815T102220Z
UID:44950-1769689800-1769693400@www.foyerdelame.fr
SUMMARY:Pause spirituelle
DESCRIPTION:Temps de pause\,\noù l’on se pose et se dépose. \nSilence\, texte biblique\, prière et musique. \nUn moment ouvert à tous dans le temple.
URL:https://www.foyerdelame.fr/event/pause-spirituelle-18/
CATEGORIES:Groupes thématiques
END:VEVENT
END:VCALENDAR