BEGIN:VCALENDAR
VERSION:2.0
PRODID:-//Eglise Protestante Unie de la Bastille - ECPv6.15.20//NONSGML v1.0//EN
CALSCALE:GREGORIAN
METHOD:PUBLISH
X-WR-CALNAME:Eglise Protestante Unie de la Bastille
X-ORIGINAL-URL:https://www.foyerdelame.fr
X-WR-CALDESC:Évènements pour Eglise Protestante Unie de la Bastille
REFRESH-INTERVAL;VALUE=DURATION:PT1H
X-Robots-Tag:noindex
X-PUBLISHED-TTL:PT1H
BEGIN:VTIMEZONE
TZID:Europe/Paris
BEGIN:DAYLIGHT
TZOFFSETFROM:+0100
TZOFFSETTO:+0200
TZNAME:CEST
DTSTART:20240331T010000
END:DAYLIGHT
BEGIN:STANDARD
TZOFFSETFROM:+0200
TZOFFSETTO:+0100
TZNAME:CET
DTSTART:20241027T010000
END:STANDARD
BEGIN:DAYLIGHT
TZOFFSETFROM:+0100
TZOFFSETTO:+0200
TZNAME:CEST
DTSTART:20250330T010000
END:DAYLIGHT
BEGIN:STANDARD
TZOFFSETFROM:+0200
TZOFFSETTO:+0100
TZNAME:CET
DTSTART:20251026T010000
END:STANDARD
BEGIN:DAYLIGHT
TZOFFSETFROM:+0100
TZOFFSETTO:+0200
TZNAME:CEST
DTSTART:20260329T010000
END:DAYLIGHT
BEGIN:STANDARD
TZOFFSETFROM:+0200
TZOFFSETTO:+0100
TZNAME:CET
DTSTART:20261025T010000
END:STANDARD
END:VTIMEZONE
BEGIN:VEVENT
DTSTART;TZID=Europe/Paris:20250517T143000
DTEND;TZID=Europe/Paris:20250517T160000
DTSTAMP:20260423T075742
CREATED:20240803T103016Z
LAST-MODIFIED:20241214T191121Z
UID:36798-1747492200-1747497600@www.foyerdelame.fr
SUMMARY:Ciel et Terre
DESCRIPTION:Le groupe Ciel et terre se propose d’envisager des questions de théologie ou de philosophie dans leur rapport à l’expérience concrète\, personnelle ou collective. \nDans ce but\, les séances mensuelles (d’une durée d’une heure et demie à deux heures) dans la salle du 2ème étage prendront pour point de départ des thèmes\, ou des textes\, brièvement présentés par un ou par une des participants et faisant ensuite l’objet d’une approche commune.
URL:https://www.foyerdelame.fr/event/ciel-et-terre-9/
CATEGORIES:Adultes,Groupes thématiques
END:VEVENT
END:VCALENDAR