BEGIN:VCALENDAR
VERSION:2.0
PRODID:-//Eglise Protestante Unie de la Bastille - ECPv6.15.20//NONSGML v1.0//EN
CALSCALE:GREGORIAN
METHOD:PUBLISH
X-WR-CALNAME:Eglise Protestante Unie de la Bastille
X-ORIGINAL-URL:https://www.foyerdelame.fr
X-WR-CALDESC:Évènements pour Eglise Protestante Unie de la Bastille
REFRESH-INTERVAL;VALUE=DURATION:PT1H
X-Robots-Tag:noindex
X-PUBLISHED-TTL:PT1H
BEGIN:VTIMEZONE
TZID:Europe/Paris
BEGIN:DAYLIGHT
TZOFFSETFROM:+0100
TZOFFSETTO:+0200
TZNAME:CEST
DTSTART:20240331T010000
END:DAYLIGHT
BEGIN:STANDARD
TZOFFSETFROM:+0200
TZOFFSETTO:+0100
TZNAME:CET
DTSTART:20241027T010000
END:STANDARD
BEGIN:DAYLIGHT
TZOFFSETFROM:+0100
TZOFFSETTO:+0200
TZNAME:CEST
DTSTART:20250330T010000
END:DAYLIGHT
BEGIN:STANDARD
TZOFFSETFROM:+0200
TZOFFSETTO:+0100
TZNAME:CET
DTSTART:20251026T010000
END:STANDARD
BEGIN:DAYLIGHT
TZOFFSETFROM:+0100
TZOFFSETTO:+0200
TZNAME:CEST
DTSTART:20260329T010000
END:DAYLIGHT
BEGIN:STANDARD
TZOFFSETFROM:+0200
TZOFFSETTO:+0100
TZNAME:CET
DTSTART:20261025T010000
END:STANDARD
END:VTIMEZONE
BEGIN:VEVENT
DTSTART;TZID=Europe/Paris:20250507T194500
DTEND;TZID=Europe/Paris:20250507T220000
DTSTAMP:20260424T122835
CREATED:20240803T100645Z
LAST-MODIFIED:20240810T100436Z
UID:36768-1746647100-1746655200@www.foyerdelame.fr
SUMMARY:Ciné-club
DESCRIPTION:Les séances sont ouvertes à tous\, dans la salle du 2ème étage\, le premier mercredi du mois. Nous commençons par un en-cas partagé à partir de 19h. La projection débute à 19h45. \nL’idée est de trouver et partager des films\, attractifs évidemment\, nourrissant la réflexion nécessairement\, pas forcément à sujet religieux\, et qui ne sont guère visibles en vidéo ou sur les chaînes spécialisées. Et de partager un débat après le film. \nLe chef opérateur est Didier You. \nThème pour début 2025 :\nLe christianisme au cinéma
URL:https://www.foyerdelame.fr/event/cine-club-19/
CATEGORIES:Partage
END:VEVENT
END:VCALENDAR