BEGIN:VCALENDAR
VERSION:2.0
PRODID:-//Eglise Protestante Unie de la Bastille - ECPv6.15.20//NONSGML v1.0//EN
CALSCALE:GREGORIAN
METHOD:PUBLISH
X-WR-CALNAME:Eglise Protestante Unie de la Bastille
X-ORIGINAL-URL:https://www.foyerdelame.fr
X-WR-CALDESC:Évènements pour Eglise Protestante Unie de la Bastille
REFRESH-INTERVAL;VALUE=DURATION:PT1H
X-Robots-Tag:noindex
X-PUBLISHED-TTL:PT1H
BEGIN:VTIMEZONE
TZID:Europe/Paris
BEGIN:DAYLIGHT
TZOFFSETFROM:+0100
TZOFFSETTO:+0200
TZNAME:CEST
DTSTART:20240331T010000
END:DAYLIGHT
BEGIN:STANDARD
TZOFFSETFROM:+0200
TZOFFSETTO:+0100
TZNAME:CET
DTSTART:20241027T010000
END:STANDARD
BEGIN:DAYLIGHT
TZOFFSETFROM:+0100
TZOFFSETTO:+0200
TZNAME:CEST
DTSTART:20250330T010000
END:DAYLIGHT
BEGIN:STANDARD
TZOFFSETFROM:+0200
TZOFFSETTO:+0100
TZNAME:CET
DTSTART:20251026T010000
END:STANDARD
BEGIN:DAYLIGHT
TZOFFSETFROM:+0100
TZOFFSETTO:+0200
TZNAME:CEST
DTSTART:20260329T010000
END:DAYLIGHT
BEGIN:STANDARD
TZOFFSETFROM:+0200
TZOFFSETTO:+0100
TZNAME:CET
DTSTART:20261025T010000
END:STANDARD
END:VTIMEZONE
BEGIN:VEVENT
DTSTART;TZID=Europe/Paris:20251106T123000
DTEND;TZID=Europe/Paris:20251106T133000
DTSTAMP:20260423T233644
CREATED:20250815T100348Z
LAST-MODIFIED:20250815T100359Z
UID:44920-1762432200-1762435800@www.foyerdelame.fr
SUMMARY:Pause spirituelle
DESCRIPTION:Temps de pause\,\noù l’on se pose et se dépose. \nSilence\, texte biblique\, prière et musique. \nUn moment ouvert à tous dans le temple.
URL:https://www.foyerdelame.fr/event/pause-spirituelle-10/
CATEGORIES:Groupes thématiques
END:VEVENT
BEGIN:VEVENT
DTSTART;TZID=Europe/Paris:20251106T194500
DTEND;TZID=Europe/Paris:20251106T220000
DTSTAMP:20260423T233644
CREATED:20250819T101333Z
LAST-MODIFIED:20251104T114000Z
UID:45091-1762458300-1762466400@www.foyerdelame.fr
SUMMARY:Ciné-club
DESCRIPTION:Les séances sont ouvertes à tous\,\ndans la salle du 2ème étage\, un jeudi par mois.\nNous commençons par un en-cas partagé à partir de 19h.\nLa projection débute à 19h45. \nL’idée est de trouver et partager des films\,\nattractifs évidemment\,\nnourrissant la réflexion nécessairement\,\npas forcément à sujet religieux\,\net qui ne sont guère visibles en vidéo\nou sur les chaînes spécialisées.\nEt de partager un débat après le film. \nLe chef opérateur est Didier You. \n\n\nLa beauté du Diable  \nde René Clair \navec Michel Simon\net Gérard Philippe
URL:https://www.foyerdelame.fr/event/cine-club-22/
CATEGORIES:Partage
END:VEVENT
END:VCALENDAR